BEGIN:VCALENDAR
VERSION:2.0
PRODID:-//Intand Corporation//Tandem//EN
METHOD:PUBLISH
BEGIN:VEVENT
DTSTAMP:20260424T023947Z
DTSTART:20190508T210000Z
DTEND:20190509T023000Z
TRANSP:TRANSPARENT
PRIORITY:0
SUMMARY:[Cancelled] LHS Orchestra Banquet
LOCATION:LHS Cafeteria
DESCRIPTION:Groups:\nLHS Orchestra\n\nSchools:\nLiberty High School\n\nLoc
 ation:\nLHS Cafeteria\n\n
URL;VALUE=URI:http://liberty53.tandem.co/index.php?type=view&action=event&
 id=269249
CREATED:20170417T120000Z
LAST-MODIFIED:20190419T123010Z
UID:event_request-269249-liberty53@intand.com
END:VEVENT
END:VCALENDAR
