BEGIN:VCALENDAR
VERSION:2.0
PRODID:-//Intand Corporation//Tandem//EN
METHOD:PUBLISH
BEGIN:VEVENT
DTSTAMP:20260424T055143Z
DTSTART:20101217T233000Z
DTEND:20101218T013000Z
TRANSP:TRANSPARENT
PRIORITY:0
SUMMARY:LHS - 9th Girls Basketball Practice
LOCATION:LJHS North Gym
DESCRIPTION:Groups:\nLHS Girls Basketball Freshman\n\nSchools:\nHeritage M
 iddle School\nLiberty High School\n\nLocation:\nLJHS North Gym\n\n
URL;VALUE=URI:http://liberty53.tandem.co/index.php?type=view&action=event&
 id=21113
CREATED:20101004T174925Z
LAST-MODIFIED:20101104T185202Z
UID:event-21113-liberty53@intand.com
END:VEVENT
END:VCALENDAR
