BEGIN:VCALENDAR
VERSION:2.0
PRODID:-//Intand Corporation//Tandem//EN
METHOD:PUBLISH
BEGIN:VEVENT
DTSTAMP:20260424T033017Z
DTSTART:20150421T230000Z
DTEND:20150422T003000Z
TRANSP:TRANSPARENT
PRIORITY:0
SUMMARY:Liberty North Orchestra Parent Meeting-612 Orchestra Rm - 6:30pm
LOCATION:Liberty North High School\, LNHS Room 612 Orchestra
DESCRIPTION:Meeting for Orchestra Parents 6:30 - 7:30pm  No special needs.
 \n\nGroups:\nLNHS Orchestra\n\nSchools:\nLiberty North High School\n\nLoca
 tions:\nLiberty North High School\nLNHS Room 612 Orchestra\n\n
URL;VALUE=URI:http://liberty53.tandem.co/index.php?type=view&action=event&
 id=197893
CREATED:20150411T195443Z
LAST-MODIFIED:20150411T224907Z
UID:event_request-197893-liberty53@intand.com
END:VEVENT
END:VCALENDAR
