BEGIN:VCALENDAR
VERSION:2.0
PRODID:-//Intand Corporation//Tandem//EN
METHOD:PUBLISH
BEGIN:VEVENT
DTSTAMP:20260424T043935Z
DTSTART:20150620T170000Z
DTEND:20150621T020000Z
TRANSP:TRANSPARENT
PRIORITY:0
SUMMARY:Center Stage Theater Summer School@ SVMS 
LOCATION:SVMS LMC\, SVMS LGIR\, SVMS Cafeteria
DESCRIPTION:Groups:\nSVMS Drama\n\nSchools:\nSouth Valley Middle School\n\
 nLocations:\nSVMS LMC\nSVMS LGIR\nSVMS Cafeteria\n\n
URL;VALUE=URI:http://liberty53.tandem.co/index.php?type=view&action=event&
 id=197544
CREATED:20150407T191104Z
LAST-MODIFIED:20150407T191104Z
UID:event-197544-liberty53@intand.com
END:VEVENT
END:VCALENDAR
