BEGIN:VCALENDAR
VERSION:2.0
PRODID:-//Intand Corporation//Tandem//EN
METHOD:PUBLISH
BEGIN:VEVENT
DTSTAMP:20260424T162010Z
DTSTART:20150426T170000Z
DTEND:20150426T180000Z
TRANSP:TRANSPARENT
PRIORITY:0
SUMMARY:Youth Symphony of KC@ LNHS PAT 
LOCATION:LNHS Performing Arts Theater (GH HVAC)\, LNHS Room 607 Black Box 
 Theater\, LNHS Room 608\, LNHS Room 609
DESCRIPTION:Groups:\nLNHS Orchestra\n\nSchools:\nLiberty North High School
 \n\nLocations:\nLNHS Performing Arts Theater (GH HVAC)\nLNHS Room 607 Blac
 k Box Theater\nLNHS Room 608\nLNHS Room 609\n\n
URL;VALUE=URI:http://liberty53.tandem.co/index.php?type=view&action=event&
 id=197288
CREATED:20150406T153442Z
LAST-MODIFIED:20150407T114902Z
UID:event-197288-liberty53@intand.com
END:VEVENT
END:VCALENDAR
