BEGIN:VCALENDAR
VERSION:2.0
PRODID:-//Intand Corporation//Tandem//EN
METHOD:PUBLISH
BEGIN:VEVENT
DTSTAMP:20260424T053845Z
DTSTART:20150415T230000Z
DTEND:20150416T013000Z
TRANSP:TRANSPARENT
PRIORITY:0
SUMMARY:Death of a Salesman Rehearsals
LOCATION:SVMS Cafeteria
DESCRIPTION:Groups:\nLHS Theater\n\nSchools:\nSouth Valley Middle School\n
 Liberty High School\n\nLocation:\nSVMS Cafeteria\n\n
URL;VALUE=URI:http://liberty53.tandem.co/index.php?type=view&action=event&
 id=196787
CREATED:20150323T170403Z
LAST-MODIFIED:20150324T163341Z
UID:event_request-196787-liberty53@intand.com
END:VEVENT
END:VCALENDAR
