BEGIN:VCALENDAR
VERSION:2.0
PRODID:-//Intand Corporation//Tandem//EN
METHOD:PUBLISH
BEGIN:VEVENT
DTSTAMP:20260424T073808Z
DTSTART:20150214T200000Z
DTEND:20150214T230000Z
TRANSP:TRANSPARENT
PRIORITY:0
SUMMARY:LNHS Musical "Hello\, Dolly!" PERFORMANCE 2:00
LOCATION:LNHS Performing Arts Theater (GH HVAC)
DESCRIPTION:Setup: 12:00 pm\nBreakdown: 10:01 pm\n\nGroups:\nLNHS Theater\
 n\nSchools:\nLiberty North High School\n\nLocation:\nLNHS Performing Arts 
 Theater (GH HVAC)\n\n
URL;VALUE=URI:http://liberty53.tandem.co/index.php?type=view&action=event&
 id=194909
CREATED:20150211T202006Z
LAST-MODIFIED:20150211T202006Z
UID:event-194909-liberty53@intand.com
END:VEVENT
END:VCALENDAR
