BEGIN:VCALENDAR
VERSION:2.0
PRODID:-//Intand Corporation//Tandem//EN
METHOD:PUBLISH
BEGIN:VEVENT
DTSTAMP:20260424T023519Z
DTSTART:20110107T220000Z
DTEND:20110109T020000Z
TRANSP:TRANSPARENT
PRIORITY:0
SUMMARY:LHS - JV/Var Girls Swim @ Park Hill Invite
LOCATION:Park Hill Aquatic Center
DESCRIPTION:Groups:\nLHS Girls Swim & Dive\n\nSchools:\nLiberty High Schoo
 l\n\nLocation:\nPark Hill Aquatic Center\n\n
URL;VALUE=URI:http://liberty53.tandem.co/index.php?type=view&action=event&
 id=19031
CREATED:20100916T173117Z
LAST-MODIFIED:20100916T173117Z
UID:event-19031-liberty53@intand.com
END:VEVENT
END:VCALENDAR
