BEGIN:VCALENDAR
VERSION:2.0
PRODID:-//Intand Corporation//Tandem//EN
METHOD:PUBLISH
BEGIN:VEVENT
DTSTAMP:20260424T073656Z
DTSTART:20141027T203000Z
DTEND:20141027T223000Z
TRANSP:TRANSPARENT
PRIORITY:0
SUMMARY:Drama Club
LOCATION:Liberty Performing Arts Theatre
DESCRIPTION:Schools:\nLiberty North High School\n\nLocation:\nLiberty Perf
 orming Arts Theatre\n\n
URL;VALUE=URI:http://liberty53.tandem.co/index.php?type=view&action=event&
 id=188522
CREATED:20141023T125140Z
LAST-MODIFIED:20141023T143818Z
UID:event_request-188522-liberty53@intand.com
END:VEVENT
END:VCALENDAR
