BEGIN:VCALENDAR
VERSION:2.0
PRODID:-//Intand Corporation//Tandem//EN
METHOD:PUBLISH
BEGIN:VEVENT
DTSTAMP:20260424T044047Z
DTSTART:20141112T130000Z
DTEND:20141112T134000Z
TRANSP:TRANSPARENT
PRIORITY:0
SUMMARY:Full Orchestra Rehearsal- Advisory Time Only
LOCATION:SVMS Cafeteria
DESCRIPTION:Groups:\nSVMS Orchestra\n\nSchools:\nSouth Valley Middle Schoo
 l\n\nLocation:\nSVMS Cafeteria\n\n
URL;VALUE=URI:http://liberty53.tandem.co/index.php?type=view&action=event&
 id=188483
CREATED:20141022T172528Z
LAST-MODIFIED:20141106T152441Z
UID:event_request-188483-liberty53@intand.com
END:VEVENT
END:VCALENDAR
