BEGIN:VCALENDAR
VERSION:2.0
PRODID:-//Intand Corporation//Tandem//EN
METHOD:PUBLISH
BEGIN:VEVENT
DTSTAMP:20260424T023836Z
DTSTART:20141021T220000Z
DTEND:20141022T013000Z
TRANSP:TRANSPARENT
PRIORITY:0
SUMMARY:LHS/DMS/LMS Choir Concert @ LPAT
LOCATION:Liberty Performing Arts Theatre
DESCRIPTION:Groups:\nDMS Vocal Music\nLHS Vocal Music\nLMS Vocal Music\n\n
 Schools:\nLiberty Middle School\nLiberty High School\nDiscovery Middle Sch
 ool\n\nLocation:\nLiberty Performing Arts Theatre\n\n
URL;VALUE=URI:http://liberty53.tandem.co/index.php?type=view&action=event&
 id=188300
CREATED:20141020T171219Z
LAST-MODIFIED:20141020T191646Z
UID:event_request-188300-liberty53@intand.com
END:VEVENT
END:VCALENDAR
