BEGIN:VCALENDAR
VERSION:2.0
PRODID:-//Intand Corporation//Tandem//EN
METHOD:PUBLISH
BEGIN:VEVENT
DTSTAMP:20260424T161920Z
DTSTART:20141022T133000Z
DTEND:20141022T183000Z
TRANSP:TRANSPARENT
PRIORITY:0
SUMMARY:Wacky Wednesday Informal Performance
LOCATION:Liberty Performing Arts Theatre
DESCRIPTION:6th & 7th Grade Choirs to perform informal concert during the 
 school day during their schedule class time. Mr. Rasmussen and students wi
 ll set-up risers and piano. All that is needed is for the theatre to be un
 locked\, lights on\, and the heat or air be turned on. No sound shells are
  needed. \n\nGroups:\nLMS Vocal Music\n\nSchools:\nLiberty Middle School\n
 \nLocation:\nLiberty Performing Arts Theatre\n\n
URL;VALUE=URI:http://liberty53.tandem.co/index.php?type=view&action=event&
 id=187927
CREATED:20141009T163136Z
LAST-MODIFIED:20141013T164730Z
UID:event_request-187927-liberty53@intand.com
END:VEVENT
END:VCALENDAR
