BEGIN:VCALENDAR
VERSION:2.0
PRODID:-//Intand Corporation//Tandem//EN
METHOD:PUBLISH
BEGIN:VEVENT
DTSTAMP:20260424T023614Z
DTSTART:20150422T230000Z
DTEND:20150423T010000Z
TRANSP:TRANSPARENT
PRIORITY:0
SUMMARY:BBFP Improv Practice
LOCATION:LNHS Room 613 VM-Small
DESCRIPTION:Groups:\nLNHS Improv\n\nSchools:\nLiberty North High School\n\
 nLocation:\nLNHS Room 613 VM-Small\n\n
URL;VALUE=URI:http://liberty53.tandem.co/index.php?type=view&action=event&
 id=187593
CREATED:20141001T201108Z
LAST-MODIFIED:20141013T164819Z
UID:event_request-187593-liberty53@intand.com
END:VEVENT
END:VCALENDAR
