BEGIN:VCALENDAR
VERSION:2.0
PRODID:-//Intand Corporation//Tandem//EN
METHOD:PUBLISH
BEGIN:VEVENT
DTSTAMP:20260424T023824Z
DTSTART:20141001T203000Z
DTEND:20141002T000000Z
TRANSP:TRANSPARENT
PRIORITY:0
SUMMARY:Musical Pit Rehearsal
LOCATION:LHS Room 815
DESCRIPTION:Groups:\nLHS Band\nLHS Orchestra\n\nSchools:\nLiberty High Sch
 ool\n\nLocation:\nLHS Room 815\n\nContacts:\nEddie Owen\n\n
URL;VALUE=URI:http://liberty53.tandem.co/index.php?type=view&action=event&
 id=186826
CREATED:20140922T120808Z
LAST-MODIFIED:20140922T121822Z
UID:event_request-186826-liberty53@intand.com
END:VEVENT
END:VCALENDAR
