BEGIN:VCALENDAR
VERSION:2.0
PRODID:-//Intand Corporation//Tandem//EN
METHOD:PUBLISH
BEGIN:VEVENT
DTSTAMP:20260424T014938Z
DTSTART:20140912T123000Z
DTEND:20140912T230000Z
TRANSP:TRANSPARENT
PRIORITY:0
SUMMARY:LNHS Performing Arts Theater Professional Development
LOCATION:LNHS Performing Arts Theater (GH HVAC)
DESCRIPTION:Groups:\nLNHS Drama\n\nSchools:\nLiberty North High School\n\n
 Location:\nLNHS Performing Arts Theater (GH HVAC)\n\n
URL;VALUE=URI:http://liberty53.tandem.co/index.php?type=view&action=event&
 id=186253
CREATED:20140909T185307Z
LAST-MODIFIED:20140909T185307Z
UID:event-186253-liberty53@intand.com
END:VEVENT
END:VCALENDAR
