BEGIN:VCALENDAR
VERSION:2.0
PRODID:-//Intand Corporation//Tandem//EN
METHOD:PUBLISH
BEGIN:VEVENT
DTSTAMP:20260424T040828Z
DTSTART:20150509T170000Z
DTEND:20150509T180000Z
TRANSP:TRANSPARENT
PRIORITY:0
SUMMARY:LNHS Performing Arts Theater School Usage 
LOCATION:LNHS Performing Arts Theater (GH HVAC)
DESCRIPTION:Groups:\nLNHS Drama\n\nSchools:\nLiberty North High School\n\n
 Location:\nLNHS Performing Arts Theater (GH HVAC)\n\n
URL;VALUE=URI:http://liberty53.tandem.co/index.php?type=view&action=event&
 id=186206
CREATED:20140908T204231Z
LAST-MODIFIED:20140908T204231Z
UID:event-186206-liberty53@intand.com
END:VEVENT
END:VCALENDAR
