BEGIN:VCALENDAR
VERSION:2.0
PRODID:-//Intand Corporation//Tandem//EN
METHOD:PUBLISH
BEGIN:VEVENT
DTSTAMP:20260424T091211Z
DTSTART:20141220T010000Z
DTEND:20141220T030000Z
TRANSP:TRANSPARENT
PRIORITY:0
SUMMARY:BBFP Improv Show
LOCATION:LNHS Room 607 Black Box Theater
DESCRIPTION:Setup: 6:30 pm\nBreakdown: 9:30 pm\n\nGroups:\nLNHS Improv\n\n
 Schools:\nLiberty North High School\n\nLocation:\nLNHS Room 607 Black Box 
 Theater\n\nContacts:\nJeff Braden\nSara Turner\n\nSupervisors:\nJeff Brade
 n\nSara Turner\n\n
URL;VALUE=URI:http://liberty53.tandem.co/index.php?type=view&action=event&
 id=185880
CREATED:20140904T135905Z
LAST-MODIFIED:20140904T203129Z
UID:event_request-185880-liberty53@intand.com
END:VEVENT
END:VCALENDAR
