BEGIN:VCALENDAR
VERSION:2.0
PRODID:-//Intand Corporation//Tandem//EN
METHOD:PUBLISH
BEGIN:VEVENT
DTSTAMP:20260424T074021Z
DTSTART:20140827T180000Z
DTEND:20140827T190000Z
TRANSP:TRANSPARENT
PRIORITY:0
SUMMARY:Blocked off times for Plays/Musicals @ LNHS Performing Arts Theate
 r 
LOCATION:LNHS Performing Arts Theater (GH HVAC)
DESCRIPTION:Groups:\nLNHS Drama\n\nSchools:\nLiberty North High School\n\n
 Location:\nLNHS Performing Arts Theater (GH HVAC)\n\n
URL;VALUE=URI:http://liberty53.tandem.co/index.php?type=view&action=event&
 id=184125
CREATED:20140827T190034Z
LAST-MODIFIED:20140827T190118Z
UID:event-184125-liberty53@intand.com
END:VEVENT
END:VCALENDAR
