BEGIN:VCALENDAR
VERSION:2.0
PRODID:-//Intand Corporation//Tandem//EN
METHOD:PUBLISH
BEGIN:VEVENT
DTSTAMP:20260424T053448Z
DTSTART:20140904T213000Z
DTEND:20140905T013000Z
TRANSP:TRANSPARENT
PRIORITY:0
SUMMARY:LHS Orchestra ASTA trip meeting@ LHS Instrumental Room @ 6:30
LOCATION:LHS Room 807\, LHS Room 815\, LHS Room 808 Band\, LHS Room 806 St
 udio
DESCRIPTION:Groups:\nLHS Orchestra\n\nSchools:\nLiberty High School\n\nLoc
 ations:\nLHS Room 807\nLHS Room 815\nLHS Room 808 Band\nLHS Room 806 Studi
 o\n\n
URL;VALUE=URI:http://liberty53.tandem.co/index.php?type=view&action=event&
 id=183565
CREATED:20140825T164706Z
LAST-MODIFIED:20140825T164706Z
UID:event-183565-liberty53@intand.com
END:VEVENT
END:VCALENDAR
