BEGIN:VCALENDAR
VERSION:2.0
PRODID:-//Intand Corporation//Tandem//EN
METHOD:PUBLISH
BEGIN:VEVENT
DTSTAMP:20260424T061628Z
DTSTART:20140919T230000Z
DTEND:20140920T060000Z
TRANSP:TRANSPARENT
PRIORITY:0
SUMMARY:Speech and Debate Lock-In
LOCATION:Liberty High School\, LHS Lower Atrium\, LHS Lower Commons\, LHS 
 Room 903\, LHS Room 901
DESCRIPTION:Groups:\nLHS Speech / Debate\n\nSchools:\nLiberty High School\
 n\nLocations:\nLiberty High School\nLHS Lower Atrium\nLHS Lower Commons\nL
 HS Room 903\nLHS Room 901\n\n
URL;VALUE=URI:http://liberty53.tandem.co/index.php?type=view&action=event&
 id=183434
CREATED:20140825T001151Z
LAST-MODIFIED:20140825T180831Z
UID:event_request-183434-liberty53@intand.com
END:VEVENT
END:VCALENDAR
