BEGIN:VCALENDAR
VERSION:2.0
PRODID:-//Intand Corporation//Tandem//EN
METHOD:PUBLISH
BEGIN:VEVENT
DTSTAMP:20260424T041108Z
DTSTART:20150228T123000Z
DTEND:20150228T233000Z
TRANSP:TRANSPARENT
PRIORITY:0
SUMMARY:Orchestra Solo/Ensemble Festival @ LNHS 
LOCATION:LNHS Cafeteria (GH HVAC)\, LNHS Performing Arts Theater (GH HVAC)
 \, LNHS Room 612 Orchestra\, LNHS Room 607 Black Box Theater\, LNHS Great 
 Hall\, LNHS Room 608\, LNHS Room 617 VM-Large\, LNHS Room 613 VM-Small\, L
 NHS Room 616 Band\, LNHS
DESCRIPTION:Groups:\nDMS Orchestra\nHMS Orchestra\nLMS Orchestra\nSVMS Orc
 hestra\n\nSchools:\nSouth Valley Middle School\nLiberty North High School\
 nLiberty Middle School\nHeritage Middle School\nDiscovery Middle School\n\
 nLocations:\nLNHS Cafeteria (GH HVAC)\nLNHS Performing Arts Theater (GH HV
 AC)\nLNHS Room 612 Orchestra\nLNHS Room 607 Black Box Theater\nLNHS Great 
 Hall\nLNHS Room 608\nLNHS Room 617 VM-Large\nLNHS Room 613 VM-Small\nLNHS 
 Room 616 Band\nLNHS Room 609\n\n
URL;VALUE=URI:http://liberty53.tandem.co/index.php?type=view&action=event&
 id=182888
CREATED:20140819T173019Z
LAST-MODIFIED:20150223T145912Z
UID:event-182888-liberty53@intand.com
END:VEVENT
END:VCALENDAR
