BEGIN:VCALENDAR
VERSION:2.0
PRODID:-//Intand Corporation//Tandem//EN
METHOD:PUBLISH
BEGIN:VEVENT
DTSTAMP:20260424T144256Z
DTSTART:20140913T223000Z
DTEND:20140914T023000Z
TRANSP:TRANSPARENT
PRIORITY:0
SUMMARY:Liberty Christian Fellowship 
LOCATION:Liberty North High School\, LNHS Performing Arts Theater (GH HVAC
 )\, LNHS Room 612 Orchestra\, LNHS Room 607 Black Box Theater\, LNHS Room 
 617 VM-Large\, LNHS Room 613 VM-Small\, LNHS Room 616 Band
DESCRIPTION:set up\n\nGroups:\nLiberty Christian Fellowship\n\nSchools:\nL
 iberty North High School\n\nLocations:\nLiberty North High School\nLNHS Pe
 rforming Arts Theater (GH HVAC)\nLNHS Room 612 Orchestra\nLNHS Room 607 Bl
 ack Box Theater\nLNHS Room 617 VM-Large\nLNHS Room 613 VM-Small\nLNHS Room
  616 Band\n\n
URL;VALUE=URI:http://liberty53.tandem.co/index.php?type=view&action=event&
 id=182316
CREATED:20140814T123420Z
LAST-MODIFIED:20140814T131101Z
UID:event_request-182316-liberty53@intand.com
END:VEVENT
END:VCALENDAR
