BEGIN:VCALENDAR
VERSION:2.0
PRODID:-//Intand Corporation//Tandem//EN
METHOD:PUBLISH
BEGIN:VEVENT
DTSTAMP:20260424T043424Z
DTSTART:20140826T200000Z
DTEND:20140826T210000Z
TRANSP:TRANSPARENT
PRIORITY:0
SUMMARY:Evergreen Employee Orientation@ Community Center 
LOCATION:Liberty Performing Arts Theatre
DESCRIPTION:Groups:\nDAC Benefits\n\nSchools:\nDistrict Administration Cen
 ter\n\nLocation:\nLiberty Performing Arts Theatre\n\n
URL;VALUE=URI:http://liberty53.tandem.co/index.php?type=view&action=event&
 id=182020
CREATED:20140811T185504Z
LAST-MODIFIED:20140811T185807Z
UID:event_request-182020-liberty53@intand.com
END:VEVENT
END:VCALENDAR
