BEGIN:VCALENDAR
VERSION:2.0
PRODID:-//Intand Corporation//Tandem//EN
METHOD:PUBLISH
BEGIN:VEVENT
DTSTAMP:20260424T033010Z
DTSTART:20150306T000000Z
DTEND:20150306T050000Z
TRANSP:TRANSPARENT
PRIORITY:0
SUMMARY:[Cancelled] DMS Pre Contest Concert (Band\,Orchestra\,Choir)@ DMS
LOCATION:DMS Cafeteria
DESCRIPTION:Groups:\nDMS Band\nDMS Orchestra\nDMS Vocal Music\n\nSchools:\
 nDiscovery Middle School\n\nLocation:\nDMS Cafeteria\n\n
URL;VALUE=URI:http://liberty53.tandem.co/index.php?type=view&action=event&
 id=171122
CREATED:20140619T195222Z
LAST-MODIFIED:20141117T125008Z
UID:event-171122-liberty53@intand.com
END:VEVENT
END:VCALENDAR
