BEGIN:VCALENDAR
VERSION:2.0
PRODID:-//Intand Corporation//Tandem//EN
METHOD:PUBLISH
BEGIN:VEVENT
DTSTAMP:20260424T040816Z
DTSTART:20141218T182000Z
DTEND:20141218T210000Z
TRANSP:TRANSPARENT
PRIORITY:0
SUMMARY:FR- Dress Rehearsal for WFC for grades K\, 2\, 4
LOCATION:Liberty Performing Arts Theatre
DESCRIPTION:Groups:\nFE PTA\nFE Parent\nFE Staff\n\nSchools:\nFranklin Ele
 mentary\n\nLocation:\nLiberty Performing Arts Theatre\n\n
URL;VALUE=URI:http://liberty53.tandem.co/index.php?type=view&action=event&
 id=170962
CREATED:20140619T130244Z
LAST-MODIFIED:20141118T192507Z
UID:event_request-170962-liberty53@intand.com
END:VEVENT
END:VCALENDAR
