BEGIN:VCALENDAR
VERSION:2.0
PRODID:-//Intand Corporation//Tandem//EN
METHOD:PUBLISH
BEGIN:VEVENT
DTSTAMP:20260424T055408Z
DTSTART:20141211T233000Z
DTEND:20141212T013000Z
TRANSP:TRANSPARENT
PRIORITY:0
SUMMARY:4th Grade Concert @ RVE 6:30 
LOCATION:RE Gym
DESCRIPTION:Groups:\nRE Parent\nRE Vocal Music\n\nSchools:\nRidgeview Elem
 entary\n\nLocation:\nRE Gym\n\n
URL;VALUE=URI:http://liberty53.tandem.co/index.php?type=view&action=event&
 id=170654
CREATED:20140617T135310Z
LAST-MODIFIED:20140617T135310Z
UID:event-170654-liberty53@intand.com
END:VEVENT
END:VCALENDAR
