BEGIN:VCALENDAR
VERSION:2.0
PRODID:-//Intand Corporation//Tandem//EN
METHOD:PUBLISH
BEGIN:VEVENT
DTSTAMP:20260424T023816Z
DTSTART:20150514T220000Z
DTEND:20150515T013000Z
TRANSP:TRANSPARENT
PRIORITY:0
SUMMARY:5th Grade Recognition/Music Program
LOCATION:RE Gym
DESCRIPTION:Groups:\nRE Staff\n\nSchools:\nRidgeview Elementary\n\nLocatio
 n:\nRE Gym\n\n
URL;VALUE=URI:http://liberty53.tandem.co/index.php?type=view&action=event&
 id=170119
CREATED:20140612T163145Z
LAST-MODIFIED:20140612T163920Z
UID:event-170119-liberty53@intand.com
END:VEVENT
END:VCALENDAR
