BEGIN:VCALENDAR
VERSION:2.0
PRODID:-//Intand Corporation//Tandem//EN
METHOD:PUBLISH
BEGIN:VEVENT
DTSTAMP:20260424T023759Z
DTSTART:20150320T000000Z
DTEND:20150320T004500Z
TRANSP:TRANSPARENT
PRIORITY:0
SUMMARY:Fifth Grade Music Performance
LOCATION:Kellybrook Elementary\, KE Gym\, KE Music Room #4
DESCRIPTION:Groups:\nKE Fifth Grade\n\nSchools:\nKellybrook Elementary\n\n
 Locations:\nKellybrook Elementary\nKE Gym\nKE Music Room #4\n\n
URL;VALUE=URI:http://liberty53.tandem.co/index.php?type=view&action=event&
 id=160593
CREATED:20140604T203303Z
LAST-MODIFIED:20141020T211640Z
UID:event-160593-liberty53@intand.com
END:VEVENT
END:VCALENDAR
