BEGIN:VCALENDAR
VERSION:2.0
PRODID:-//Intand Corporation//Tandem//EN
METHOD:PUBLISH
BEGIN:VEVENT
DTSTAMP:20260424T024638Z
DTSTART:20141107T200000Z
DTEND:20141108T030000Z
TRANSP:TRANSPARENT
PRIORITY:0
SUMMARY:DMS Play Performance of "Agatha Rex" 
LOCATION:DMS Cafeteria
DESCRIPTION:Performance @ 7pm\n\nGroups:\nDMS Drama\n\nSchools:\nDiscovery
  Middle School\n\nLocation:\nDMS Cafeteria\n\n
URL;VALUE=URI:http://liberty53.tandem.co/index.php?type=view&action=event&
 id=156951
CREATED:20140506T140503Z
LAST-MODIFIED:20140619T194851Z
UID:event-156951-liberty53@intand.com
END:VEVENT
END:VCALENDAR
