BEGIN:VCALENDAR
VERSION:2.0
PRODID:-//Intand Corporation//Tandem//EN
METHOD:PUBLISH
BEGIN:VEVENT
DTSTAMP:20260424T024156Z
DTSTART:20150411T193000Z
DTEND:20150412T040000Z
TRANSP:TRANSPARENT
PRIORITY:0
SUMMARY:LNHS Jazz and Java@ 7
LOCATION:SVMS Cafeteria\, SVMS Room 315 \, SVMS Room 313
DESCRIPTION:Groups:\nHMS Band\nLNHS Band\nSVMS Band\n\nSchools:\nSouth Val
 ley Middle School\nLiberty North High School\nHeritage Middle School\n\nLo
 cations:\nSVMS Cafeteria\nSVMS Room 315 \nSVMS Room 313\n\n
URL;VALUE=URI:http://liberty53.tandem.co/index.php?type=view&action=event&
 id=155324
CREATED:20140423T132546Z
LAST-MODIFIED:20150409T155233Z
UID:event_request-155324-liberty53@intand.com
END:VEVENT
END:VCALENDAR
