BEGIN:VCALENDAR
VERSION:2.0
PRODID:-//Intand Corporation//Tandem//EN
METHOD:PUBLISH
BEGIN:VEVENT
DTSTAMP:20260424T024300Z
DTSTART:20150226T233000Z
DTEND:20150227T053000Z
TRANSP:TRANSPARENT
PRIORITY:0
SUMMARY:DMS precontest concert@ LNHS PAT PERFORMANCE 7:00pm
LOCATION:Liberty North High School\, LNHS Performing Arts Theater (GH HVAC
 )\, LNHS Room 617 VM-Large\, LNHS Room 616 Band
DESCRIPTION:Dress rehearsal starts at 4:00 8 risers(up stage)\, grand\, ba
 nd and orch down stage and sound shells\n\nGroups:\nDMS Band\nDMS Orchestr
 a\nDMS Vocal Music\n\nSchools:\nLiberty North High School\nDiscovery Middl
 e School\n\nLocations:\nLiberty North High School\nLNHS Performing Arts Th
 eater (GH HVAC)\nLNHS Room 617 VM-Large\nLNHS Room 616 Band\n\n
URL;VALUE=URI:http://liberty53.tandem.co/index.php?type=view&action=event&
 id=154907
CREATED:20140417T134540Z
LAST-MODIFIED:20150217T140636Z
UID:event_request-154907-liberty53@intand.com
END:VEVENT
END:VCALENDAR
