BEGIN:VCALENDAR
VERSION:2.0
PRODID:-//Intand Corporation//Tandem//EN
METHOD:PUBLISH
BEGIN:VEVENT
DTSTAMP:20260424T041133Z
DTSTART:20141209T003000Z
DTEND:20141209T030000Z
TRANSP:TRANSPARENT
PRIORITY:0
SUMMARY:LNHS Orchestra "Winter Concert"@LNHS PAT Performance-7pm
LOCATION:Liberty North High School\, LNHS Performing Arts Theater (GH HVAC
 )\, LNHS Room 612 Orchestra\, LNHS Room 617 VM-Large\, LNHS Room 613 VM-Sm
 all
DESCRIPTION:Orchestra will rehearse 10:00am-2:25pm (3rd-6th Hours).  Warm 
 up on stage 6:30-7pm.  Concert at 7pm and will end by 8:30pm  I will need 
 40 chairs\, 35 music stands\, 7 acoustical shells\, podium\, microphone/st
 and\, and sound technician. \n\nGroups:\nLNHS Orchestra\n\nSchools:\nLiber
 ty North High School\nHeritage Middle School\nSouth Valley Middle School\n
 \nLocations:\nLiberty North High School\nLNHS Performing Arts Theater (GH 
 HVAC)\nLNHS Room 612 Orchestra\nLNHS Room 617 VM-Large\nLNHS Room 613 VM-S
 mall\n\n
URL;VALUE=URI:http://liberty53.tandem.co/index.php?type=view&action=event&
 id=153000
CREATED:20140311T144548Z
LAST-MODIFIED:20140311T151457Z
UID:event_request-153000-liberty53@intand.com
END:VEVENT
END:VCALENDAR
