BEGIN:VCALENDAR
VERSION:2.0
PRODID:-//Intand Corporation//Tandem//EN
METHOD:PUBLISH
BEGIN:VEVENT
DTSTAMP:20260424T074121Z
DTSTART:20150324T000000Z
DTEND:20150324T030000Z
TRANSP:TRANSPARENT
PRIORITY:0
SUMMARY:LHS-Vocal Music Concert@LPAT PERFORMANCE-7pm
LOCATION:Liberty Performing Arts Theatre
DESCRIPTION:Pre-Contest Large Group Concert\n\nSchools:\nLiberty High Scho
 ol\n\nLocation:\nLiberty Performing Arts Theatre\n\n
URL;VALUE=URI:http://liberty53.tandem.co/index.php?type=view&action=event&
 id=152521
CREATED:20140307T162724Z
LAST-MODIFIED:20140729T141035Z
UID:event_request-152521-liberty53@intand.com
END:VEVENT
END:VCALENDAR
