BEGIN:VCALENDAR
VERSION:2.0
PRODID:-//Intand Corporation//Tandem//EN
METHOD:PUBLISH
BEGIN:VEVENT
DTSTAMP:20260424T162214Z
DTSTART:20140801T120000Z
DTEND:20140801T200000Z
TRANSP:TRANSPARENT
PRIORITY:0
SUMMARY:LHS Marching Band Camp
LOCATION:LHS Room 807\, LHS Room 815\, LHS Instrumental Room\, LHS Room 80
 8 Band\, LHS Room 806 Studio
DESCRIPTION:Groups:\nLHS Band\nLHS Color Guard\n\nSchools:\nLiberty High S
 chool\n\nLocations:\nLHS Room 807\nLHS Room 815\nLHS Instrumental Room\nLH
 S Room 808 Band\nLHS Room 806 Studio\n\n
URL;VALUE=URI:http://liberty53.tandem.co/index.php?type=view&action=event&
 id=152441
CREATED:20140305T215307Z
LAST-MODIFIED:20140306T142027Z
UID:event_request-152441-liberty53@intand.com
END:VEVENT
END:VCALENDAR
