BEGIN:VCALENDAR
VERSION:2.0
PRODID:-//Intand Corporation//Tandem//EN
METHOD:PUBLISH
BEGIN:VEVENT
DTSTAMP:20260424T024424Z
DTSTART:20141215T233000Z
DTEND:20141216T030000Z
TRANSP:TRANSPARENT
PRIORITY:0
SUMMARY:LHS - Band Concert @LPAT PERFORMANCE - 7PM
LOCATION:Liberty Community Center\, Liberty Performing Arts Theatre
DESCRIPTION:1.  Band will need access at 5:30pm for dress rehearsal and ph
 otos of each group.  House should not open until 6:35pm\, and concert shou
 ld be finished by 8:30pm.\n2.  I will need 55 chairs\, 55 stands\, sound s
 hells\, conductors podium\, sound technician and light technician.\n\nGrou
 ps:\nLHS Band\n\nSchools:\nLiberty High School\n\nLocations:\nLiberty Comm
 unity Center\nLiberty Performing Arts Theatre\n\n
URL;VALUE=URI:http://liberty53.tandem.co/index.php?type=view&action=event&
 id=152422
CREATED:20140305T214243Z
LAST-MODIFIED:20140310T131230Z
UID:event_request-152422-liberty53@intand.com
END:VEVENT
END:VCALENDAR
