BEGIN:VCALENDAR
VERSION:2.0
PRODID:-//Intand Corporation//Tandem//EN
METHOD:PUBLISH
BEGIN:VEVENT
DTSTAMP:20260424T055532Z
DTSTART:20141204T233000Z
DTEND:20141205T030000Z
TRANSP:TRANSPARENT
PRIORITY:0
SUMMARY:HMS-Band Concert @ LNHS PAT-7PM
LOCATION:LNHS Performing Arts Theater (GH HVAC)\, LNHS Room 607 Black Box 
 Theater\, LNHS Room 608\, LNHS Room 609
DESCRIPTION:Booked By: Micahel Dragen Band Concert will be begin at 7:00 P
 M until 8:30 PM\n\nGroups:\nHMS Band\n\nSchools:\nLiberty North High Schoo
 l\nHeritage Middle School\n\nLocations:\nLNHS Performing Arts Theater (GH 
 HVAC)\nLNHS Room 607 Black Box Theater\nLNHS Room 608\nLNHS Room 609\n\n
URL;VALUE=URI:http://liberty53.tandem.co/index.php?type=view&action=event&
 id=150049
CREATED:20140122T184944Z
LAST-MODIFIED:20140801T135559Z
UID:event-150049-liberty53@intand.com
END:VEVENT
END:VCALENDAR
