BEGIN:VCALENDAR
VERSION:2.0
PRODID:-//Intand Corporation//Tandem//EN
METHOD:PUBLISH
BEGIN:VEVENT
DTSTAMP:20260424T023715Z
DTSTART:20141205T230000Z
DTEND:20141206T023000Z
TRANSP:TRANSPARENT
PRIORITY:0
SUMMARY:Rv - Winter Strings Concert
LOCATION:RE Gym
DESCRIPTION:Schools:\nRidgeview Elementary\n\nLocation:\nRE Gym\n\n
URL;VALUE=URI:http://liberty53.tandem.co/index.php?type=view&action=event&
 id=149978
CREATED:20140121T164120Z
LAST-MODIFIED:20140121T164120Z
UID:event-149978-liberty53@intand.com
END:VEVENT
END:VCALENDAR
