BEGIN:VCALENDAR
VERSION:2.0
PRODID:-//Intand Corporation//Tandem//EN
METHOD:PUBLISH
BEGIN:VEVENT
DTSTAMP:20260424T144237Z
DTSTART:20141028T230000Z
DTEND:20141029T010000Z
TRANSP:TRANSPARENT
PRIORITY:0
SUMMARY:[Cancelled] LNHS-Drug Presentation by Edward Moses
LOCATION:Liberty North High School\, LNHS Performing Arts Theater (GH HVAC)
DESCRIPTION:Groups:\nDAC Advanced Studies\n\nSchools:\nLiberty North High 
 School\nDistrict Administration Center\n\nLocations:\nLiberty North High S
 chool\nLNHS Performing Arts Theater (GH HVAC)\n\nContact Jim Hammen with q
 uestions.\n\n
URL;VALUE=URI:http://liberty53.tandem.co/index.php?type=view&action=event&
 id=141539
CREATED:20130903T192418Z
LAST-MODIFIED:20141021T162558Z
UID:event_request-141539-liberty53@intand.com
END:VEVENT
END:VCALENDAR
