BEGIN:VCALENDAR
VERSION:2.0
PRODID:-//Intand Corporation//Tandem//EN
METHOD:PUBLISH
BEGIN:VEVENT
DTSTAMP:20260424T023335Z
DTSTART:20130820T000000Z
DTEND:20130820T021500Z
TRANSP:TRANSPARENT
PRIORITY:0
SUMMARY:[Cancelled] LMS - Parks & Rec - Youth Volleyball League
LOCATION:LMS Gym
DESCRIPTION:Contact Nate Williams 816-439-4389. Not the complex\, field ar
 ea in front.\n\nGroups:\nLiberty Parks & Rec\n\nSchools:\nLiberty Middle S
 chool\n\nLocation:\nLMS Gym\n\n
URL;VALUE=URI:http://liberty53.tandem.co/index.php?type=view&action=event&
 id=137746
CREATED:20130819T134630Z
LAST-MODIFIED:20130819T134748Z
UID:event-137746-liberty53@intand.com
END:VEVENT
END:VCALENDAR
