BEGIN:VCALENDAR
VERSION:2.0
PRODID:-//Intand Corporation//Tandem//EN
METHOD:PUBLISH
BEGIN:VEVENT
DTSTAMP:20260424T015305Z
DTSTART:20130818T180000Z
DTEND:20130818T190000Z
TRANSP:TRANSPARENT
PRIORITY:0
SUMMARY:8th All Sports Meeting
LOCATION:DMS Gym
DESCRIPTION:DMS & LMS\n\nGroups:\nDMS Staff\nLMS Staff\n\nSchools:\nDiscov
 ery Middle School\nLiberty Middle School\n\nLocation:\nDMS Gym\n\n
URL;VALUE=URI:http://liberty53.tandem.co/index.php?type=view&action=event&
 id=135683
CREATED:20130813T191927Z
LAST-MODIFIED:20130813T191927Z
UID:event-135683-liberty53@intand.com
END:VEVENT
END:VCALENDAR
