BEGIN:VCALENDAR
VERSION:2.0
PRODID:-//Intand Corporation//Tandem//EN
METHOD:PUBLISH
BEGIN:VEVENT
DTSTAMP:20260424T041041Z
DTSTART:20130821T200000Z
DTEND:20130822T000000Z
TRANSP:TRANSPARENT
PRIORITY:0
SUMMARY:LMS-Fall play auditions
LOCATION:LHS Room 501\, LMS Commons
DESCRIPTION:Contact Mrs. Gregoire.\n\nGroups:\nLMS Drama\n\nSchools:\nLibe
 rty Middle School\n\nLocations:\nLHS Room 501\nLMS Commons\n\n
URL;VALUE=URI:http://liberty53.tandem.co/index.php?type=view&action=event&
 id=129769
CREATED:20130701T130730Z
LAST-MODIFIED:20130701T130730Z
UID:event-129769-liberty53@intand.com
END:VEVENT
END:VCALENDAR
